Package: cliqueMS Version: 1.18.0 Command: /Library/Frameworks/R.framework/Resources/bin/R CMD INSTALL cliqueMS StartedAt: 2024-06-09 16:40:59 -0400 (Sun, 09 Jun 2024) EndedAt: 2024-06-09 16:42:36 -0400 (Sun, 09 Jun 2024) EllapsedTime: 96.5 seconds RetCode: 0 Status: OK