Package: covRNA Version: 1.30.0 Command: /Library/Frameworks/R.framework/Resources/bin/R CMD INSTALL covRNA StartedAt: 2024-06-09 16:49:13 -0400 (Sun, 09 Jun 2024) EndedAt: 2024-06-09 16:49:41 -0400 (Sun, 09 Jun 2024) EllapsedTime: 27.7 seconds RetCode: 0 Status: OK