Package: cytomapper Version: 1.16.0 Command: /Library/Frameworks/R.framework/Resources/bin/R CMD build --keep-empty-dirs --no-resave-data cytomapper StartedAt: 2024-10-16 22:37:04 -0400 (Wed, 16 Oct 2024) EndedAt: 2024-10-16 22:38:56 -0400 (Wed, 16 Oct 2024) EllapsedTime: 111.6 seconds RetCode: 0 Status: OK PackageFile: cytomapper_1.16.0.tar.gz PackageFileSize: 21.49 MiB