Package: diffGeneAnalysis Version: 1.86.0 Command: F:\biocbuild\bbs-3.19-bioc\R\bin\R.exe CMD INSTALL diffGeneAnalysis StartedAt: 2024-06-26 15:42:13 -0400 (Wed, 26 Jun 2024) EndedAt: 2024-06-26 15:42:35 -0400 (Wed, 26 Jun 2024) EllapsedTime: 22.5 seconds RetCode: 0 Status: OK