Package: diffGeneAnalysis Version: 1.86.0 Command: E:\biocbuild\bbs-3.19-bioc\R\bin\R.exe CMD INSTALL diffGeneAnalysis StartedAt: 2024-10-16 16:01:32 -0400 (Wed, 16 Oct 2024) EndedAt: 2024-10-16 16:02:20 -0400 (Wed, 16 Oct 2024) EllapsedTime: 48.0 seconds RetCode: 0 Status: OK