Package: epistack Version: 1.10.0 Command: /Library/Frameworks/R.framework/Resources/bin/R CMD INSTALL epistack StartedAt: 2024-10-16 15:54:33 -0400 (Wed, 16 Oct 2024) EndedAt: 2024-10-16 15:54:58 -0400 (Wed, 16 Oct 2024) EllapsedTime: 24.6 seconds RetCode: 0 Status: OK