Package: epivizrChart Version: 1.26.0 Command: /Library/Frameworks/R.framework/Resources/bin/R CMD INSTALL epivizrChart StartedAt: 2024-06-09 15:22:00 -0400 (Sun, 09 Jun 2024) EndedAt: 2024-06-09 15:23:02 -0400 (Sun, 09 Jun 2024) EllapsedTime: 62.3 seconds RetCode: 0 Status: OK