Package: interactiveDisplay Version: 1.42.0 Command: E:\biocbuild\bbs-3.19-bioc\R\bin\R.exe CMD INSTALL interactiveDisplay StartedAt: 2024-10-16 17:24:31 -0400 (Wed, 16 Oct 2024) EndedAt: 2024-10-16 17:24:56 -0400 (Wed, 16 Oct 2024) EllapsedTime: 25.3 seconds RetCode: 0 Status: OK