Package: methylInheritance Version: 1.28.0 Command: /home/biocbuild/bbs-3.19-bioc/R/bin/R CMD build --keep-empty-dirs --no-resave-data methylInheritance StartedAt: 2024-10-16 19:24:29 -0400 (Wed, 16 Oct 2024) EndedAt: 2024-10-16 19:25:44 -0400 (Wed, 16 Oct 2024) EllapsedTime: 75.1 seconds RetCode: 0 Status: OK PackageFile: methylInheritance_1.28.0.tar.gz PackageFileSize: 1.695 MiB