Package: scDataviz Version: 1.14.0 Command: /home/biocbuild/R/R-beta-2024-04-15_r86425/bin/R CMD build --keep-empty-dirs --no-resave-data scDataviz StartedAt: 2024-05-09 03:19:40 -0000 (Thu, 09 May 2024) EndedAt: 2024-05-09 03:24:48 -0000 (Thu, 09 May 2024) EllapsedTime: 307.4 seconds RetCode: 0 Status: OK PackageFile: scDataviz_1.14.0.tar.gz PackageFileSize: 5.445 MiB