Package: scanMiRApp Version: 1.10.0 Command: /home/biocbuild/R/R-beta-2024-04-15_r86425/bin/R CMD INSTALL scanMiRApp StartedAt: 2024-05-08 20:38:44 -0000 (Wed, 08 May 2024) EndedAt: 2024-05-08 20:39:46 -0000 (Wed, 08 May 2024) EllapsedTime: 61.9 seconds RetCode: 0 Status: OK