Package: sparseDOSSA Version: 1.28.0 Command: /home/biocbuild/R/R-beta-2024-04-15_r86425/bin/R CMD build --keep-empty-dirs --no-resave-data sparseDOSSA StartedAt: 2024-05-09 03:45:26 -0000 (Thu, 09 May 2024) EndedAt: 2024-05-09 03:46:02 -0000 (Thu, 09 May 2024) EllapsedTime: 36.0 seconds RetCode: 0 Status: OK PackageFile: sparseDOSSA_1.28.0.tar.gz PackageFileSize: 1.412 MiB