Package: splineTimeR Version: 1.32.0 Command: /Library/Frameworks/R.framework/Resources/bin/R CMD INSTALL splineTimeR StartedAt: 2024-10-16 16:17:45 -0400 (Wed, 16 Oct 2024) EndedAt: 2024-10-16 16:18:04 -0400 (Wed, 16 Oct 2024) EllapsedTime: 19.7 seconds RetCode: 0 Status: OK