Package: sscu Version: 2.34.0 Command: /home/biocbuild/R/R-beta-2024-04-15_r86425/bin/R CMD INSTALL sscu StartedAt: 2024-05-08 20:11:12 -0000 (Wed, 08 May 2024) EndedAt: 2024-05-08 20:11:26 -0000 (Wed, 08 May 2024) EllapsedTime: 13.8 seconds RetCode: 0 Status: OK