Package: variancePartition Version: 1.34.0 Command: /Library/Frameworks/R.framework/Resources/bin/R CMD build --keep-empty-dirs --no-resave-data variancePartition StartedAt: 2024-06-10 06:25:34 -0400 (Mon, 10 Jun 2024) EndedAt: 2024-06-10 06:45:48 -0400 (Mon, 10 Jun 2024) EllapsedTime: 1213.9 seconds RetCode: 0 Status: OK PackageFile: variancePartition_1.34.0.tar.gz PackageFileSize: 4.982 MiB