Package: webbioc Version: 1.76.0 Command: /Library/Frameworks/R.framework/Resources/bin/R CMD INSTALL webbioc StartedAt: 2024-10-16 16:25:04 -0400 (Wed, 16 Oct 2024) EndedAt: 2024-10-16 16:25:57 -0400 (Wed, 16 Oct 2024) EllapsedTime: 53.2 seconds RetCode: 0 Status: OK