Package: ABarray Version: 1.74.0 Command: /home/biocbuild/R/R/bin/R CMD INSTALL ABarray StartedAt: 2025-03-31 21:02:09 -0000 (Mon, 31 Mar 2025) EndedAt: 2025-03-31 21:02:19 -0000 (Mon, 31 Mar 2025) EllapsedTime: 10.3 seconds RetCode: 0 Status: OK