Package: ALDEx2 Version: 1.38.0 Command: /home/biocbuild/R/R/bin/R CMD INSTALL ALDEx2 StartedAt: 2025-03-31 20:58:01 -0000 (Mon, 31 Mar 2025) EndedAt: 2025-03-31 20:58:31 -0000 (Mon, 31 Mar 2025) EllapsedTime: 29.7 seconds RetCode: 0 Status: OK