Package: AMARETTO Version: 1.22.0 Command: /Library/Frameworks/R.framework/Resources/bin/R CMD INSTALL AMARETTO StartedAt: 2025-03-31 17:08:50 -0400 (Mon, 31 Mar 2025) EndedAt: 2025-03-31 17:09:29 -0400 (Mon, 31 Mar 2025) EllapsedTime: 39.3 seconds RetCode: 0 Status: OK