Package: ASEB Version: 1.50.0 Command: /home/biocbuild/R/R/bin/R CMD INSTALL ASEB StartedAt: 2025-03-31 20:11:05 -0000 (Mon, 31 Mar 2025) EndedAt: 2025-03-31 20:11:36 -0000 (Mon, 31 Mar 2025) EllapsedTime: 30.3 seconds RetCode: 0 Status: OK