Package: ASSET Version: 2.24.0 Command: /Library/Frameworks/R.framework/Resources/bin/R CMD INSTALL ASSET StartedAt: 2025-03-31 18:15:40 -0400 (Mon, 31 Mar 2025) EndedAt: 2025-03-31 18:15:50 -0400 (Mon, 31 Mar 2025) EllapsedTime: 9.2 seconds RetCode: 0 Status: OK