Package: ASSIGN Version: 1.42.0 Command: /Library/Frameworks/R.framework/Resources/bin/R CMD INSTALL ASSIGN StartedAt: 2025-03-31 16:22:40 -0400 (Mon, 31 Mar 2025) EndedAt: 2025-03-31 16:22:47 -0400 (Mon, 31 Mar 2025) EllapsedTime: 6.4 seconds RetCode: 0 Status: OK