Package: BBCAnalyzer Version: 1.36.0 Command: /Library/Frameworks/R.framework/Resources/bin/R CMD build --keep-empty-dirs --no-resave-data BBCAnalyzer StartedAt: 2025-03-31 17:03:19 -0400 (Mon, 31 Mar 2025) EndedAt: 2025-03-31 17:21:37 -0400 (Mon, 31 Mar 2025) EllapsedTime: 1097.6 seconds RetCode: 0 Status: OK PackageFile: BBCAnalyzer_1.36.0.tar.gz PackageFileSize: 2.202 MiB