Package: BBCAnalyzer Version: 1.36.0 Command: /home/biocbuild/bbs-3.20-bioc/R/bin/R CMD build --keep-empty-dirs --no-resave-data --md5 BBCAnalyzer StartedAt: 2025-03-31 16:17:40 -0400 (Mon, 31 Mar 2025) EndedAt: 2025-03-31 16:23:59 -0400 (Mon, 31 Mar 2025) EllapsedTime: 379.3 seconds RetCode: 0 Status: OK PackageFile: BBCAnalyzer_1.36.0.tar.gz PackageFileSize: 2.204 MiB