Package: BBCAnalyzer Version: 1.36.0 Command: /home/biocbuild/R/R/bin/R CMD build --keep-empty-dirs --no-resave-data BBCAnalyzer StartedAt: 2025-03-31 21:33:47 -0000 (Mon, 31 Mar 2025) EndedAt: 2025-03-31 21:43:24 -0000 (Mon, 31 Mar 2025) EllapsedTime: 577.1 seconds RetCode: 0 Status: OK PackageFile: BBCAnalyzer_1.36.0.tar.gz PackageFileSize: 2.194 MiB