Package: BOBaFIT Version: 1.10.0 Command: /Library/Frameworks/R.framework/Resources/bin/R CMD INSTALL BOBaFIT StartedAt: 2025-03-31 16:00:27 -0400 (Mon, 31 Mar 2025) EndedAt: 2025-03-31 16:02:09 -0400 (Mon, 31 Mar 2025) EllapsedTime: 102.2 seconds RetCode: 0 Status: OK