Package: BOBaFIT Version: 1.10.0 Command: /home/biocbuild/R/R/bin/R CMD INSTALL BOBaFIT StartedAt: 2025-03-31 20:48:13 -0000 (Mon, 31 Mar 2025) EndedAt: 2025-03-31 20:49:19 -0000 (Mon, 31 Mar 2025) EllapsedTime: 65.8 seconds RetCode: 0 Status: OK