Package: BiSeq Version: 1.46.0 Command: /Library/Frameworks/R.framework/Resources/bin/R CMD build --keep-empty-dirs --no-resave-data BiSeq StartedAt: 2025-03-31 19:41:22 -0400 (Mon, 31 Mar 2025) EndedAt: 2025-03-31 19:43:36 -0400 (Mon, 31 Mar 2025) EllapsedTime: 133.9 seconds RetCode: 0 Status: OK PackageFile: BiSeq_1.46.0.tar.gz PackageFileSize: 915.3 KiB