Package: BiSeq Version: 1.46.0 Command: /home/biocbuild/R/R/bin/R CMD INSTALL BiSeq StartedAt: 2025-03-31 20:56:58 -0000 (Mon, 31 Mar 2025) EndedAt: 2025-03-31 20:57:51 -0000 (Mon, 31 Mar 2025) EllapsedTime: 53.2 seconds RetCode: 0 Status: OK