Package: BioMVCClass Version: 1.74.0 Command: F:\biocbuild\bbs-3.20-bioc\R\bin\R.exe CMD INSTALL BioMVCClass StartedAt: 2025-03-31 15:46:04 -0400 (Mon, 31 Mar 2025) EndedAt: 2025-03-31 15:46:35 -0400 (Mon, 31 Mar 2025) EllapsedTime: 30.7 seconds RetCode: 0 Status: OK