Package: BioNERO Version: 1.14.0 Command: /home/biocbuild/R/R/bin/R CMD INSTALL BioNERO StartedAt: 2025-03-31 21:06:10 -0000 (Mon, 31 Mar 2025) EndedAt: 2025-03-31 21:06:56 -0000 (Mon, 31 Mar 2025) EllapsedTime: 45.9 seconds RetCode: 0 Status: OK