Package: BioQC Version: 1.34.0 Command: /Library/Frameworks/R.framework/Resources/bin/R CMD build --keep-empty-dirs --no-resave-data BioQC StartedAt: 2025-03-31 19:37:58 -0400 (Mon, 31 Mar 2025) EndedAt: 2025-03-31 19:40:29 -0400 (Mon, 31 Mar 2025) EllapsedTime: 150.7 seconds RetCode: 0 Status: OK PackageFile: BioQC_1.34.0.tar.gz PackageFileSize: 4.301 MiB