Package: BioQC Version: 1.34.0 Command: /home/biocbuild/bbs-3.20-bioc/R/bin/R CMD INSTALL BioQC StartedAt: 2025-03-31 15:12:20 -0400 (Mon, 31 Mar 2025) EndedAt: 2025-03-31 15:12:46 -0400 (Mon, 31 Mar 2025) EllapsedTime: 26.0 seconds RetCode: 0 Status: OK