Package: BiocFileCache Version: 2.14.0 Command: rm -rf BiocFileCache.buildbin-libdir && mkdir BiocFileCache.buildbin-libdir && /Users/biocbuild/BBS/utils/build-universal.sh BiocFileCache_2.14.0.tar.gz /Library/Frameworks/R.framework/Resources/bin/R BiocFileCache.buildbin-libdir StartedAt: 2025-04-02 13:28:00 -0400 (Wed, 02 Apr 2025) EndedAt: 2025-04-02 13:28:10 -0400 (Wed, 02 Apr 2025) EllapsedTime: 10.4 seconds RetCode: 0 Status: OK PackageFile: BiocFileCache_2.14.0.tgz PackageFileSize: 942.7 KiB