Package: BloodGen3Module Version: 1.14.0 Command: /Library/Frameworks/R.framework/Resources/bin/R CMD build --keep-empty-dirs --no-resave-data BloodGen3Module StartedAt: 2025-03-31 17:19:36 -0400 (Mon, 31 Mar 2025) EndedAt: 2025-03-31 17:21:55 -0400 (Mon, 31 Mar 2025) EllapsedTime: 139.3 seconds RetCode: 0 Status: OK PackageFile: BloodGen3Module_1.14.0.tar.gz PackageFileSize: 178.8 KiB