Package: BrowserViz Version: 2.28.0 Command: /Library/Frameworks/R.framework/Resources/bin/R CMD INSTALL BrowserViz StartedAt: 2025-03-31 15:17:58 -0400 (Mon, 31 Mar 2025) EndedAt: 2025-03-31 15:18:07 -0400 (Mon, 31 Mar 2025) EllapsedTime: 8.8 seconds RetCode: 0 Status: OK