Package: BubbleTree Version: 2.36.0 Command: /Library/Frameworks/R.framework/Resources/bin/R CMD INSTALL BubbleTree StartedAt: 2025-03-31 16:41:08 -0400 (Mon, 31 Mar 2025) EndedAt: 2025-03-31 16:42:06 -0400 (Mon, 31 Mar 2025) EllapsedTime: 58.1 seconds RetCode: 0 Status: OK