Package: BubbleTree Version: 2.36.0 Command: F:\biocbuild\bbs-3.20-bioc\R\bin\R.exe CMD INSTALL BubbleTree StartedAt: 2025-03-31 16:17:01 -0400 (Mon, 31 Mar 2025) EndedAt: 2025-03-31 16:18:36 -0400 (Mon, 31 Mar 2025) EllapsedTime: 94.3 seconds RetCode: 0 Status: OK