Package: BufferedMatrixMethods Version: 1.70.0 Command: /home/biocbuild/R/R/bin/R CMD build --keep-empty-dirs --no-resave-data BufferedMatrixMethods StartedAt: 2025-03-31 22:01:36 -0000 (Mon, 31 Mar 2025) EndedAt: 2025-03-31 22:01:37 -0000 (Mon, 31 Mar 2025) EllapsedTime: 1.0 seconds RetCode: 0 Status: OK PackageFile: BufferedMatrixMethods_1.70.0.tar.gz PackageFileSize: 10.85 KiB