Package: CATALYST Version: 1.30.2 Command: /home/biocbuild/R/R/bin/R CMD INSTALL CATALYST StartedAt: 2025-03-31 21:09:24 -0000 (Mon, 31 Mar 2025) EndedAt: 2025-03-31 21:10:10 -0000 (Mon, 31 Mar 2025) EllapsedTime: 46.1 seconds RetCode: 0 Status: OK