Package: CBNplot Version: 1.6.0 Command: /home/biocbuild/R/R/bin/R CMD INSTALL CBNplot StartedAt: 2025-03-31 20:55:07 -0000 (Mon, 31 Mar 2025) EndedAt: 2025-03-31 20:55:45 -0000 (Mon, 31 Mar 2025) EllapsedTime: 37.8 seconds RetCode: 0 Status: OK