Package: CGEN Version: 3.42.0 Command: /Library/Frameworks/R.framework/Resources/bin/R CMD INSTALL CGEN StartedAt: 2025-03-31 17:21:14 -0400 (Mon, 31 Mar 2025) EndedAt: 2025-03-31 17:21:39 -0400 (Mon, 31 Mar 2025) EllapsedTime: 24.7 seconds RetCode: 0 Status: OK