Package: CNORfuzzy Version: 1.48.0 Command: /Library/Frameworks/R.framework/Resources/bin/R CMD INSTALL CNORfuzzy StartedAt: 2025-03-31 15:51:41 -0400 (Mon, 31 Mar 2025) EndedAt: 2025-03-31 15:52:03 -0400 (Mon, 31 Mar 2025) EllapsedTime: 21.1 seconds RetCode: 0 Status: OK