Package: CNViz Version: 1.14.0 Command: /home/biocbuild/bbs-3.20-bioc/R/bin/R CMD build --keep-empty-dirs --no-resave-data --md5 CNViz StartedAt: 2025-03-31 16:44:19 -0400 (Mon, 31 Mar 2025) EndedAt: 2025-03-31 16:45:17 -0400 (Mon, 31 Mar 2025) EllapsedTime: 58.1 seconds RetCode: 0 Status: OK PackageFile: CNViz_1.14.0.tar.gz PackageFileSize: 116.6 KiB