Package: COCOA Version: 2.20.0 Command: /home/biocbuild/R/R/bin/R CMD INSTALL COCOA StartedAt: 2025-03-31 21:01:03 -0000 (Mon, 31 Mar 2025) EndedAt: 2025-03-31 21:01:57 -0000 (Mon, 31 Mar 2025) EllapsedTime: 53.9 seconds RetCode: 0 Status: OK