Package: COTAN Version: 2.6.4 Command: /home/biocbuild/bbs-3.20-bioc/R/bin/R CMD build --keep-empty-dirs --no-resave-data --md5 COTAN StartedAt: 2025-03-31 16:49:20 -0400 (Mon, 31 Mar 2025) EndedAt: 2025-03-31 16:56:19 -0400 (Mon, 31 Mar 2025) EllapsedTime: 418.5 seconds RetCode: 0 Status: OK PackageFile: COTAN_2.6.4.tar.gz PackageFileSize: 4.071 MiB