Package: CRISPRball Version: 1.2.0 Command: /Library/Frameworks/R.framework/Resources/bin/R CMD INSTALL CRISPRball StartedAt: 2025-03-31 17:51:00 -0400 (Mon, 31 Mar 2025) EndedAt: 2025-03-31 17:51:56 -0400 (Mon, 31 Mar 2025) EllapsedTime: 55.5 seconds RetCode: 0 Status: OK