Package: CaDrA Version: 1.4.0 Command: /Library/Frameworks/R.framework/Resources/bin/R CMD INSTALL CaDrA StartedAt: 2025-03-31 16:32:05 -0400 (Mon, 31 Mar 2025) EndedAt: 2025-03-31 16:32:24 -0400 (Mon, 31 Mar 2025) EllapsedTime: 18.3 seconds RetCode: 0 Status: OK