Package: CaMutQC Version: 1.2.0 Command: /home/biocbuild/bbs-3.20-bioc/R/bin/R CMD INSTALL CaMutQC StartedAt: 2025-03-31 15:46:25 -0400 (Mon, 31 Mar 2025) EndedAt: 2025-03-31 15:46:50 -0400 (Mon, 31 Mar 2025) EllapsedTime: 24.6 seconds RetCode: 0 Status: OK