Package: CaMutQC Version: 1.2.0 Command: /home/biocbuild/R/R/bin/R CMD INSTALL CaMutQC StartedAt: 2025-03-31 20:55:40 -0000 (Mon, 31 Mar 2025) EndedAt: 2025-03-31 20:56:13 -0000 (Mon, 31 Mar 2025) EllapsedTime: 33.6 seconds RetCode: 0 Status: OK